BEGIN:VCALENDAR
VERSION:2.0
PRODID:-//project/author//NONSGML v1.0//EN
CALSCALE:GREGORIAN
BEGIN:VEVENT
DTSTART:20250513T090000
LOCATION:Online, Deutschland
DTEND:20250513T161500
DTSTAMP:20260420T184315
UID:2089
SUMMARY:Hands-on-Training Risikomanagement bei Medizinprodukten
URL;VALUE=URI:
END:VEVENT
END:VCALENDAR