BEGIN:VCALENDAR
VERSION:2.0
PRODID:-//project/author//NONSGML v1.0//EN
CALSCALE:GREGORIAN
BEGIN:VEVENT
DTSTART:20250223T100000
LOCATION:Doha Exhibition and Convention Center (DECC), West Bay, Doha, Qatar
DTEND:20250226T170000
DTSTAMP:20260422T131806
UID:2088
SUMMARY:Web Summit Qatar
URL;VALUE=URI:
END:VEVENT
END:VCALENDAR