BEGIN:VCALENDAR
VERSION:2.0
PRODID:-//project/author//NONSGML v1.0//EN
CALSCALE:GREGORIAN
BEGIN:VEVENT
DTSTART:20250225T090000
LOCATION:Congress Center Basel, Messeplatz 21, 4058 Basel, Switzerland
DTEND:20250226T190000
DTSTAMP:20260420T173301
UID:2080
SUMMARY:9th AMR Conference 2025
URL;VALUE=URI:
END:VEVENT
END:VCALENDAR