BEGIN:VCALENDAR
VERSION:2.0
PRODID:-//project/author//NONSGML v1.0//EN
CALSCALE:GREGORIAN
BEGIN:VEVENT
DTSTART:20250206T140000
LOCATION:IHK zu Leipzig, Goerdelerring 5, 04109 Leipzig, Deutschland
DTEND:20250206T183000
DTSTAMP:20260419T174358
UID:2077
SUMMARY:Die unbeachteten Goldbarren im Unternehmen – mit emotionaler Führung zum Erfolg!
URL;VALUE=URI:
END:VEVENT
END:VCALENDAR