BEGIN:VCALENDAR
VERSION:2.0
PRODID:-//project/author//NONSGML v1.0//EN
CALSCALE:GREGORIAN
BEGIN:VEVENT
DTSTART:20250521T150000
LOCATION:online, Dresden, Deutschland
DTEND:20250521T160000
DTSTAMP:20260421T113341
UID:2075
SUMMARY:Webinar: Evaluating LLM Agents: Metrics, Methods, and Practical Examples
URL;VALUE=URI:
END:VEVENT
END:VCALENDAR