BEGIN:VCALENDAR
VERSION:2.0
PRODID:-//project/author//NONSGML v1.0//EN
CALSCALE:GREGORIAN
BEGIN:VEVENT
DTSTART:20251013T090000
LOCATION:SKZ – Das Kunststoff-Zentrum, Friedrich-Bergius-Ring 21, 97076 Würzburg, Deutschland
DTEND:20251016T163000
DTSTAMP:20260420T151236
UID:2072
SUMMARY:DIN EN ISO 13485 – QM für Medizinprodukte in der Kunststoffindustrie
URL;VALUE=URI:
END:VEVENT
END:VCALENDAR