BEGIN:VCALENDAR
VERSION:2.0
PRODID:-//project/author//NONSGML v1.0//EN
CALSCALE:GREGORIAN
BEGIN:VEVENT
DTSTART:20250206T180000
LOCATION:COSMO Wissenschaftsforum im Kulturpalast Dresden, Schloßstraße 2, 01067 Dresden, Germany
DTEND:20250206T210000
DTSTAMP:20260422T120021
UID:2069
SUMMARY:Mikrophysiologische Systeme als Alternative zum Tierversuch – Wo stehen wir?
URL;VALUE=URI:
END:VEVENT
END:VCALENDAR