BEGIN:VCALENDAR
VERSION:2.0
PRODID:-//project/author//NONSGML v1.0//EN
CALSCALE:GREGORIAN
BEGIN:VEVENT
DTSTART:20250401T113000
LOCATION:Vogel Convention Center Würzburg, Max-Planck Str. 7, 97082 Würzburg, Deutschland
DTEND:20250402T170000
DTSTAMP:20260422T142336
UID:2063
SUMMARY:Regulatory Affairs Expert Talks
URL;VALUE=URI:
END:VEVENT
END:VCALENDAR