BEGIN:VCALENDAR
VERSION:2.0
PRODID:-//project/author//NONSGML v1.0//EN
CALSCALE:GREGORIAN
BEGIN:VEVENT
DTSTART:20250314T123000
LOCATION:KONGRESSHALLE am Zoo Leipzig, Pfaffendorfer Straße 31, 04105 Leipzig, Deutschland
DTEND:20250315T133000
DTSTAMP:20260420T144953
UID:2062
SUMMARY:7. Leipziger Hämatologie Symposium
URL;VALUE=URI:
END:VEVENT
END:VCALENDAR