BEGIN:VCALENDAR
VERSION:2.0
PRODID:-//project/author//NONSGML v1.0//EN
CALSCALE:GREGORIAN
BEGIN:VEVENT
DTSTART:20250428T100000
LOCATION:SKZ – Das Kunststoff-Zentrum, Friedrich-Bergius-Ring 21, 97076 Würzburg, Deutschland
DTEND:20250429T163000
DTSTAMP:20260420T162554
UID:2060
SUMMARY:Prozessvalidierung für additive Fertigung in der Medizinprodukteindustrie
URL;VALUE=URI:
END:VEVENT
END:VCALENDAR