BEGIN:VCALENDAR
VERSION:2.0
PRODID:-//project/author//NONSGML v1.0//EN
CALSCALE:GREGORIAN
BEGIN:VEVENT
DTSTART:20250311T000000
LOCATION:Penck Hotel Dresden, Ostra-Allee 33, 01067 Dresden, Deutschland
DTEND:20250312T000000
DTSTAMP:20260419T171943
UID:2051
SUMMARY:ALD for Industry 2025
URL;VALUE=URI:
END:VEVENT
END:VCALENDAR