BEGIN:VCALENDAR
VERSION:2.0
PRODID:-//project/author//NONSGML v1.0//EN
CALSCALE:GREGORIAN
BEGIN:VEVENT
DTSTART:20250403T135500
LOCATION:MS Teams, Offenbach am Main, Deutschland
DTEND:20250403T151500
DTSTAMP:20260421T124128
UID:2048
SUMMARY:Reg Talk Medical Engineering: AI Act Update
URL;VALUE=URI:
END:VEVENT
END:VCALENDAR