BEGIN:VCALENDAR
VERSION:2.0
PRODID:-//project/author//NONSGML v1.0//EN
CALSCALE:GREGORIAN
BEGIN:VEVENT
DTSTART:20250428T000000
LOCATION:Business Design Centre Ltd, 52 Upper St, N1 0Q London, United Kingdom
DTEND:20250430T130000
DTSTAMP:20260421T124820
UID:2044
SUMMARY:Life Science Investment | LSX World Congress
URL;VALUE=URI:
END:VEVENT
END:VCALENDAR