BEGIN:VCALENDAR
VERSION:2.0
PRODID:-//project/author//NONSGML v1.0//EN
CALSCALE:GREGORIAN
BEGIN:VEVENT
DTSTART:20250317T000000
LOCATION:Allianz MiCo – Milano Convention Centre, Piazzale Carlo Magno, 1/Gate 16, 20149 Milano MI, Italy
DTEND:20250319T000000
DTSTAMP:20260421T123812
UID:2041
SUMMARY:BIO-Europe Spring 
URL;VALUE=URI:
END:VEVENT
END:VCALENDAR