BEGIN:VCALENDAR
VERSION:2.0
PRODID:-//project/author//NONSGML v1.0//EN
CALSCALE:GREGORIAN
BEGIN:VEVENT
DTSTART:20250111T000000
LOCATION:Marines' Memorial Club & Hotel, 609 Sutter St, 94102 San Francisco, CA, United States
DTEND:20250111T000000
DTSTAMP:20260420T134913
UID:2038
SUMMARY:1ST ANNUAL BIOPHARMA OBESITY INNOVATION FORUM
URL;VALUE=URI:
END:VEVENT
END:VCALENDAR