BEGIN:VCALENDAR
VERSION:2.0
PRODID:-//project/author//NONSGML v1.0//EN
CALSCALE:GREGORIAN
BEGIN:VEVENT
DTSTART:20241205T120000
LOCATION:Online
DTEND:20241205T180000
DTSTAMP:20260419T174243
UID:2035
SUMMARY:How to turn medical device data into insights & stay compliant
URL;VALUE=URI:
END:VEVENT
END:VCALENDAR