BEGIN:VCALENDAR
VERSION:2.0
PRODID:-//project/author//NONSGML v1.0//EN
CALSCALE:GREGORIAN
BEGIN:VEVENT
DTSTART:20241127T110000
LOCATION:Online
DTEND:20241127T123000
DTSTAMP:20260421T141431
UID:2032
SUMMARY:GO-Bio initial
URL;VALUE=URI:
END:VEVENT
END:VCALENDAR