BEGIN:VCALENDAR
VERSION:2.0
PRODID:-//project/author//NONSGML v1.0//EN
CALSCALE:GREGORIAN
BEGIN:VEVENT
DTSTART:20250212T140000
LOCATION:MS Teams, Offenbach am Main, Deutschland
DTEND:20250212T151500
DTSTAMP:20260422T142056
UID:2030
SUMMARY:Tec Talk Medical Engineering: Testen von KI-Systemen
URL;VALUE=URI:
END:VEVENT
END:VCALENDAR