BEGIN:VCALENDAR
VERSION:2.0
PRODID:-//project/author//NONSGML v1.0//EN
CALSCALE:GREGORIAN
BEGIN:VEVENT
DTSTART:20241104T093000
LOCATION:Lecture Hall - HZDR, Bautzner Landstraße 400, 01328 Dresden, Germany
DTEND:20241105T150000
DTSTAMP:20260420T190350
UID:2007
SUMMARY:Hi-Tech Forum and 2nd Hi-Acts Network Meeting
URL;VALUE=URI:
END:VEVENT
END:VCALENDAR