BEGIN:VCALENDAR
VERSION:2.0
PRODID:-//project/author//NONSGML v1.0//EN
CALSCALE:GREGORIAN
BEGIN:VEVENT
DTSTART:20240925T094500
LOCATION:Frankfurt Exhibition Hall 1.2, Ludwig-Erhard-Anlage 1, 60327 Frankfurt am Main, Deutschland
DTEND:20240926T153000
DTSTAMP:20260420T201828
UID:2005
SUMMARY:Cleanzone 2024: Networking, Wissenstransfer und Innovationen
URL;VALUE=URI:
END:VEVENT
END:VCALENDAR