BEGIN:VCALENDAR
VERSION:2.0
PRODID:-//project/author//NONSGML v1.0//EN
CALSCALE:GREGORIAN
BEGIN:VEVENT
DTSTART:20241015T090000
LOCATION:Dresden, Deutschland
DTEND:20241015T093000
DTSTAMP:20260420T203433
UID:1997
SUMMARY:Free webinar µKPI: Suite of tools for microbiological method key performance indicators
URL;VALUE=URI:
END:VEVENT
END:VCALENDAR