BEGIN:VCALENDAR
VERSION:2.0
PRODID:-//project/author//NONSGML v1.0//EN
CALSCALE:GREGORIAN
BEGIN:VEVENT
DTSTART:20240911T180000
LOCATION:CRTD Zentrum für Regenerative Therapien TU Dresden, Fetscherstraße 105, 01307 Dresden, Germany
DTEND:20240913T150000
DTSTAMP:20260421T125130
UID:1989
SUMMARY:AI and Electronics for Medicine 2024
URL;VALUE=URI:
END:VEVENT
END:VCALENDAR