BEGIN:VCALENDAR
VERSION:2.0
PRODID:-//project/author//NONSGML v1.0//EN
CALSCALE:GREGORIAN
BEGIN:VEVENT
DTSTART:20241128T090000
LOCATION:Investitionsbank des Landes Brandenburg, Babelsberger Straße 21, 14473 Potsdam, Deutschland
DTEND:20241128T170000
DTSTAMP:20260419T190252
UID:1987
SUMMARY:"The Product is the Process – Is it?" Manufacturing and Translation of ATMPs and Tissue- & Cell-based products
URL;VALUE=URI:
END:VEVENT
END:VCALENDAR