BEGIN:VCALENDAR
VERSION:2.0
PRODID:-//project/author//NONSGML v1.0//EN
CALSCALE:GREGORIAN
BEGIN:VEVENT
DTSTART:20240828T090000
LOCATION:SimpliOffice Eventspace Leipzig, Markgrafenstraße 2, 04109 Leipzig-Zentrum, Deutschland
DTEND:20240828T234500
DTSTAMP:20260424T141536
UID:1986
SUMMARY:BARCAMP HEALTHTECH & AI 2024: Das Barcamp rund um die aktuellen Hot Topics in Digital Health
URL;VALUE=URI:
END:VEVENT
END:VCALENDAR