BEGIN:VCALENDAR
VERSION:2.0
PRODID:-//project/author//NONSGML v1.0//EN
CALSCALE:GREGORIAN
BEGIN:VEVENT
DTSTART:20240807T150000
LOCATION:BIO CITY Leipzig | Atrium (ground floor), Conference room 2, Deutscher Platz 5, 04103 Leipzig, Germany
DTEND:20240807T170000
DTSTAMP:20260419T145913
UID:1983
SUMMARY:Bioluminescent Reporter Assays for Cellular Responses and Metabolism
URL;VALUE=URI:
END:VEVENT
END:VCALENDAR