BEGIN:VCALENDAR
VERSION:2.0
PRODID:-//project/author//NONSGML v1.0//EN
CALSCALE:GREGORIAN
BEGIN:VEVENT
DTSTART:20240924T134500
LOCATION:MS Teams, Offenbach, Deutschland
DTEND:20240924T160000
DTSTAMP:20260420T215120
UID:1978
SUMMARY:Charging Up: Die Auswirkungen der Europäischen Batterie-Verordnung auf Medizinprodukte-Hersteller und Zulieferer
URL;VALUE=URI:
END:VEVENT
END:VCALENDAR