BEGIN:VCALENDAR
VERSION:2.0
PRODID:-//project/author//NONSGML v1.0//EN
CALSCALE:GREGORIAN
BEGIN:VEVENT
DTSTART:20241126T160000
LOCATION:online, online
DTEND:20241127T110000
DTSTAMP:20260421T124301
UID:1977
SUMMARY:LAwave User Meeting
URL;VALUE=URI:
END:VEVENT
END:VCALENDAR