BEGIN:VCALENDAR
VERSION:2.0
PRODID:-//project/author//NONSGML v1.0//EN
CALSCALE:GREGORIAN
BEGIN:VEVENT
DTSTART:20240910T090000
LOCATION:Dresden, Deutschland
DTEND:20240917T160000
DTSTAMP:20260422T130921
UID:1969
SUMMARY:Web-Seminar zur Verifizierung, Validierung und Ermittlung der Messunsicherheit für quantitative & qualitative mikrobiologische Prüfverfahren
URL;VALUE=URI:
END:VEVENT
END:VCALENDAR