BEGIN:VCALENDAR
VERSION:2.0
PRODID:-//project/author//NONSGML v1.0//EN
CALSCALE:GREGORIAN
BEGIN:VEVENT
DTSTART:20241103T090000
LOCATION:Evangelische Akademie, Tutzing, Germany
DTEND:20241106T170000
DTSTAMP:20260419T174418
UID:1961
SUMMARY:61. Tutzing-Symposion der DECHEMA: Phytoextraction - A sustainable resource for innovative products
URL;VALUE=URI:
END:VEVENT
END:VCALENDAR