BEGIN:VCALENDAR
VERSION:2.0
PRODID:-//project/author//NONSGML v1.0//EN
CALSCALE:GREGORIAN
BEGIN:VEVENT
DTSTART:20240524T150000
LOCATION:BioInnovationsZentrum Dresden, Tatzberg 47, 01307 Dresden, Deutschland
DTEND:20240524T170000
DTSTAMP:20260422T103727
UID:1951
SUMMARY:Wahl und Demokratie - Sensibilisierung im Unternehmen und Best Practices | Dresden
URL;VALUE=URI:
END:VEVENT
END:VCALENDAR