BEGIN:VCALENDAR
VERSION:2.0
PRODID:-//project/author//NONSGML v1.0//EN
CALSCALE:GREGORIAN
BEGIN:VEVENT
DTSTART:20240528T120000
LOCATION:online
DTEND:20240528T130000
DTSTAMP:20260420T173422
UID:1949
SUMMARY:Webinar: Personalarbeit ist teuer, keine Personalarbeit ist teurer! Kostentreiber in HR und strategische Ableitungen
URL;VALUE=URI:
END:VEVENT
END:VCALENDAR