BEGIN:VCALENDAR
VERSION:2.0
PRODID:-//project/author//NONSGML v1.0//EN
CALSCALE:GREGORIAN
BEGIN:VEVENT
DTSTART:20240513T140000
LOCATION:Cambridge, England
DTEND:20240513T150000
DTSTAMP:20260422T115358
UID:1948
SUMMARY:Effective Data Management for Biotech Companies
URL;VALUE=URI:
END:VEVENT
END:VCALENDAR