BEGIN:VCALENDAR
VERSION:2.0
PRODID:-//project/author//NONSGML v1.0//EN
CALSCALE:GREGORIAN
BEGIN:VEVENT
DTSTART:20240515T140000
LOCATION:online, Zoom
DTEND:20240515T153000
DTSTAMP:20260421T000121
UID:1947
SUMMARY:Revolutions: Replacing animal testing by cellular systems in medicine
URL;VALUE=URI:
END:VEVENT
END:VCALENDAR