BEGIN:VCALENDAR
VERSION:2.0
PRODID:-//project/author//NONSGML v1.0//EN
CALSCALE:GREGORIAN
BEGIN:VEVENT
DTSTART:20240709T084500
LOCATION:MS Teams, Offenbach, Deutschland
DTEND:20240709T110000
DTSTAMP:20260420T151241
UID:1944
SUMMARY:Elektromagnetische Verträglichkeit (EMV) bei Medizinprodukten
URL;VALUE=URI:
END:VEVENT
END:VCALENDAR