BEGIN:VCALENDAR
VERSION:2.0
PRODID:-//project/author//NONSGML v1.0//EN
CALSCALE:GREGORIAN
BEGIN:VEVENT
DTSTART:20240611T090000
LOCATION:Penck Hotel Dresden, Ostra-Allee 33, 01067 Dresden, Germany
DTEND:20240613T160000
DTSTAMP:20260422T121916
UID:1943
SUMMARY:6th CIRP CONFERENCE ON BIOMANUFACTURING
URL;VALUE=URI:
END:VEVENT
END:VCALENDAR