BEGIN:VCALENDAR
VERSION:2.0
PRODID:-//project/author//NONSGML v1.0//EN
CALSCALE:GREGORIAN
BEGIN:VEVENT
DTSTART:20240923T000000
LOCATION:MITS - Metabolic-Immunological Diseases and Therapy Technologies Saxony, Fiedlerstraße 40, 01307 Dresden
DTEND:20240927T000000
DTSTAMP:20260419T172139
UID:1934
SUMMARY:International Summer School on Technology Transfer in Life Sciences
URL;VALUE=URI:
END:VEVENT
END:VCALENDAR