BEGIN:VCALENDAR
VERSION:2.0
PRODID:-//project/author//NONSGML v1.0//EN
CALSCALE:GREGORIAN
BEGIN:VEVENT
DTSTART:20240423T170000
LOCATION:Dresden, Germany
DTEND:20240423T180000
DTSTAMP:20260419T173112
UID:1933
SUMMARY:Lipotype webinar 012: How to deal with lipidomics data?
URL;VALUE=URI:
END:VEVENT
END:VCALENDAR