BEGIN:VCALENDAR
VERSION:2.0
PRODID:-//project/author//NONSGML v1.0//EN
CALSCALE:GREGORIAN
BEGIN:VEVENT
DTSTART:20240605T150000
LOCATION:Fraunhofer IIS/EAS, Münchener Straße 16, 01069 Dresden, Deutschland
DTEND:20240605T160000
DTSTAMP:20260422T102923
UID:1932
SUMMARY:Webinar: Prototyping and Validation of Perception Sensor Systems  
URL;VALUE=URI:
END:VEVENT
END:VCALENDAR