BEGIN:VCALENDAR
VERSION:2.0
PRODID:-//project/author//NONSGML v1.0//EN
CALSCALE:GREGORIAN
BEGIN:VEVENT
DTSTART:20240606T090000
LOCATION:Online, Offenbach, Deutschland
DTEND:20240606T160000
DTSTAMP:20260420T215313
UID:1926
SUMMARY:Klinische Bewertung und PMCF bei Medizinprodukten
URL;VALUE=URI:
END:VEVENT
END:VCALENDAR