BEGIN:VCALENDAR
VERSION:2.0
PRODID:-//project/author//NONSGML v1.0//EN
CALSCALE:GREGORIAN
BEGIN:VEVENT
DTSTART:20240319T130000
LOCATION:Fraunhofer-Institutszentrum Dresden, Winterbergstr. 28, 01277 Dresden, Deutschland
DTEND:20240320T160000
DTSTAMP:20260421T124805
UID:1916
SUMMARY:Individueller keramischer Knochenersatz – von bioabbaubar bis bioinert
URL;VALUE=URI:
END:VEVENT
END:VCALENDAR