BEGIN:VCALENDAR
VERSION:2.0
PRODID:-//project/author//NONSGML v1.0//EN
CALSCALE:GREGORIAN
BEGIN:VEVENT
DTSTART:20240321T190000
LOCATION:Irish Fiddler, Alaunstraße 62, 01099 Dresden, Germany
DTEND:20240321T220000
DTSTAMP:20260420T171751
UID:1910
SUMMARY:Science (fiction) slam 3.0
URL;VALUE=URI:
END:VEVENT
END:VCALENDAR