BEGIN:VCALENDAR
VERSION:2.0
PRODID:-//project/author//NONSGML v1.0//EN
CALSCALE:GREGORIAN
BEGIN:VEVENT
DTSTART:20240314T130000
LOCATION:Online, Offenbach am Main, Deutschland
DTEND:20240314T150000
DTSTAMP:20260421T123338
UID:1909
SUMMARY:6G-Technologie für die Zukunft des Gesundheitswesens (kostenfreier Workshop)
URL;VALUE=URI:
END:VEVENT
END:VCALENDAR