BEGIN:VCALENDAR
VERSION:2.0
PRODID:-//project/author//NONSGML v1.0//EN
CALSCALE:GREGORIAN
BEGIN:VEVENT
DTSTART:20240304T090000
LOCATION:Leipziger KUBUS, Permoserstr. 15, 04318 Leipzig, Deutschland
DTEND:20240304T180000
DTSTAMP:20260422T142046
UID:1903
SUMMARY:PFAS-Innovationsforum „Gemeinsam Lösungen entwickeln"
URL;VALUE=URI:
END:VEVENT
END:VCALENDAR