BEGIN:VCALENDAR
VERSION:2.0
PRODID:-//project/author//NONSGML v1.0//EN
CALSCALE:GREGORIAN
BEGIN:VEVENT
DTSTART:20240131T130000
LOCATION:Fraunhofer IWU, Reichenhainer Str. 88, 09126 Chemnitz
DTEND:20240131T160000
DTSTAMP:20260423T102510
UID:1899
SUMMARY:1. Arbeitskreistreffen: Nachhaltige Medizintechnik
URL;VALUE=URI:
END:VEVENT
END:VCALENDAR