BEGIN:VCALENDAR
VERSION:2.0
PRODID:-//project/author//NONSGML v1.0//EN
CALSCALE:GREGORIAN
BEGIN:VEVENT
DTSTART:20240318T000000
LOCATION:Hotel Elbresidenz, Markt 1-11, 01814 Bad Schandau, Germany
DTEND:20240320T000000
DTSTAMP:20260422T132325
UID:1898
SUMMARY:Microprinting 2024
URL;VALUE=URI:
END:VEVENT
END:VCALENDAR