BEGIN:VCALENDAR
VERSION:2.0
PRODID:-//project/author//NONSGML v1.0//EN
CALSCALE:GREGORIAN
BEGIN:VEVENT
DTSTART:20240215T170000
LOCATION:Sächsische Aufbaubank - Förderbank - (SAB), Gerberstraße 5, 04105 Leipzig, Deutschland
DTEND:20240215T203000
DTSTAMP:20260422T103546
UID:1897
SUMMARY:Money4Founders: Investments für Gründende in Sachsen
URL;VALUE=URI:
END:VEVENT
END:VCALENDAR