BEGIN:VCALENDAR
VERSION:2.0
PRODID:-//project/author//NONSGML v1.0//EN
CALSCALE:GREGORIAN
BEGIN:VEVENT
DTSTART:20240417T150000
LOCATION:Fraunhofer IIS/EAS, Münchner Straße 16, 01187 Dresden Dresden, Germany
DTEND:20240417T160000
DTSTAMP:20260422T131040
UID:1892
SUMMARY:Erweiterte Qualifikation von Smarten Vibrationssensoren mit 3D-Doppler-Laservibrometrie
URL;VALUE=URI:
END:VEVENT
END:VCALENDAR