BEGIN:VCALENDAR
VERSION:2.0
PRODID:-//project/author//NONSGML v1.0//EN
CALSCALE:GREGORIAN
BEGIN:VEVENT
DTSTART:20241203T093000
LOCATION:Salles de Pologne Events & Konferenzen, Konferenzetage — Hainstraße 16, 04109 Leipzig, Deutschland
DTEND:20241204T170000
DTSTAMP:20260419T190207
UID:1889
SUMMARY:Partnerkongress der Gesundheitsforen – Die Zukunft gestalten
URL;VALUE=URI:
END:VEVENT
END:VCALENDAR