BEGIN:VCALENDAR
VERSION:2.0
PRODID:-//project/author//NONSGML v1.0//EN
CALSCALE:GREGORIAN
BEGIN:VEVENT
DTSTART:20240313T124500
LOCATION:Online, 63069 Offenbach am Main, Deutschland
DTEND:20240313T160000
DTSTAMP:20260419T202731
UID:1881
SUMMARY:Erklärbarkeit und Transparenz bei KI-basierten Medizinprodukten: Anforderungen und Umsetzung in der Praxis (Online)
URL;VALUE=URI:
END:VEVENT
END:VCALENDAR