BEGIN:VCALENDAR
VERSION:2.0
PRODID:-//project/author//NONSGML v1.0//EN
CALSCALE:GREGORIAN
BEGIN:VEVENT
DTSTART:20240209T000000
DTEND:20240209T233000
DTSTAMP:20260419T144059
UID:1879
SUMMARY:Sachsens Unternehmer:in des Jahres gesucht: Jetzt bewerben!
URL;VALUE=URI:
END:VEVENT
END:VCALENDAR